BEGIN:VCALENDAR
VERSION:2.0
PRODID:-//Eventin//Event Calendar//EN
CALSCALE:GREGORIAN
METHOD:PUBLISH
BEGIN:VEVENT
UID:6527642aaac5bb135beef4617e91af0f@exploreashlandohio.com
SUMMARY:Cornhole Tournament
DESCRIPTION:Grab your bags and your teammate—it’s almost time!\nJoin us
  for the Ashland Access 3rd Annual Summer Kick-Off & Cornhole Tournament!\n
 ~ $50 per team\n~ Double elimination format\n~ Prizes for the top 3 teams\n
  Practice starts at 4:30 PM\n Tournament begins at 5:00 PM\nDon’t miss ou
 t on a great evening of competition and fun!\n Register your team and get m
 ore details here:\nhttps://lp.constantcontactpages.com/.../6888565f-e9da...
LOCATION:Foundation Plaza
DTSTAMP:20260424T123811Z
DTSTART:20260613T210000Z
DTEND:20260614T020000Z
END:VEVENT
END:VCALENDAR
