BEGIN:VCALENDAR
VERSION:2.0
PRODID:-//Eventin//Event Calendar//EN
CALSCALE:GREGORIAN
METHOD:PUBLISH
BEGIN:VEVENT
UID:7ad3f51dc0914a7e21d3947f1ec5ef40@exploreashlandohio.com
SUMMARY:Cruisin for a Cure event- Car Show
DESCRIPTION: \nCar Show Registration fee $10All Makes Models Year welcomeT
 rophy to the Best of Show\nThere will also be aCraft/Vendor ShowSilent Auct
 ionCorn Hole TournamentFood Trucks\nAll money raised will be donated to the
  American Cancer Society Relay for Life.
LOCATION:Ashland County Fairgrounds
DTSTAMP:20260423T155200Z
DTSTART:20260620T140000Z
DTEND:20260620T190000Z
END:VEVENT
END:VCALENDAR
