BEGIN:VCALENDAR
VERSION:2.0
PRODID:-//Eventin//Event Calendar//EN
CALSCALE:GREGORIAN
METHOD:PUBLISH
BEGIN:VEVENT
UID:abbd44d68656cb6276f69c09ff9ff02e@exploreashlandohio.com
SUMMARY:Car Show
DESCRIPTION:Get those engines idling and the chrome polished! We are thrill
 ed to announce the return of the Car Show\, and this year\, we’re shiftin
 g into high gear.Whether you’ve got a vintage beauty to showcase or you
 ’re looking for some serious "garage envy" inspiration\, this is the plac
 e to be. Come see what everyone else is packing under the hood! When: May 
 9th Time: 10:00 AM – 2:00 PM Location: Heartland Tech - 1783 State Rt. 
 60\, AshlandQuestions? Reach out to Mr. Lozier at 419-289-3313 x2261.
LOCATION:Heartland Technical Education Center
DTSTAMP:20260423T154840Z
DTSTART:20260509T140000Z
DTEND:20260509T180000Z
END:VEVENT
END:VCALENDAR
