BEGIN:VCALENDAR
VERSION:2.0
PRODID:-//Eventin//Event Calendar//EN
CALSCALE:GREGORIAN
METHOD:PUBLISH
BEGIN:VEVENT
UID:4536c8658aa6badda34c893d163eec5c@exploreashlandohio.com
SUMMARY:Live Music: TKT
DESCRIPTION:
LOCATION:Uniontown Brewing Co 
DTSTAMP:20260424T111522Z
DTSTART:20260424T220000Z
DTEND:20260425T020000Z
END:VEVENT
END:VCALENDAR
