BEGIN:VCALENDAR
VERSION:2.0
PRODID:-//Eventin//Event Calendar//EN
CALSCALE:GREGORIAN
METHOD:PUBLISH
BEGIN:VEVENT
UID:e04d83ce4e31db3d1ec97290d36481bb@exploreashlandohio.com
SUMMARY:Helicopter Rides
DESCRIPTION:June 26-27 we (Intrepid Helicopters) will be in Ashland Ohio at
  the Ashland BalloonFest offering helicopter rides to the festival goers.Fr
 iday 4-900Saturday 2-900The rides will be around 5 minutes long and the cos
 t is $60/person. Cash or credit is accepted. All rides are FIRST COME FIRST
  SERVE. RIDES SIGNED UP BEFORE 6PM at are $10 dollars off!\n \n \n-Helico
 pter carries 3 passengers and we must have 2 passengers to go\n-Weight limi
 t per passenger is 275 lbs and the total weight for all 3 passengers is 600
  pounds.\n-If the total weight is getting close to 600 pounds or the indivi
 dual weight is over 200 pounds you will be subject to get on a scale that o
 nly we can read. This is for everyone's safety and to abide by the limits o
 f the aircraft.\n-prefer children older than 2 years old and all minors mus
 t be accompanied by a parent or guardian.\nmessage us with questions! we lo
 ok forward to seeing you
LOCATION:Freer Field- Ashland Balloonfest
DTSTAMP:20260423T185936Z
DTSTART:20260627T120000Z
DTEND:20260627T210000Z
END:VEVENT
END:VCALENDAR
