BEGIN:VCALENDAR
VERSION:2.0
PRODID:-//Eventin//Event Calendar//EN
CALSCALE:GREGORIAN
METHOD:PUBLISH
BEGIN:VEVENT
UID:fbd2d0de44ee5fab6f2aa05bd2d7852f@exploreashlandohio.com
SUMMARY:Kentucky Derby
DESCRIPTION:
LOCATION:Downtown Ashland
DTSTAMP:20260424T174011Z
DTSTART:20260502T140000Z
DTEND:20260502T210000Z
END:VEVENT
END:VCALENDAR
