BEGIN:VCALENDAR
VERSION:2.0
PRODID:-//Eventin//Event Calendar//EN
CALSCALE:GREGORIAN
METHOD:PUBLISH
BEGIN:VEVENT
UID:11fc543aeb27eb244415dd7b81612765@exploreashlandohio.com
SUMMARY:Ashland Co Cancer Association's MEGA Fundraising Rummage Sale
DESCRIPTION:
LOCATION:Ashland County Fairgrounds
DTSTAMP:20260424T173328Z
DTSTART:20260603T120000Z
DTEND:20260605T210000Z
END:VEVENT
END:VCALENDAR
