BEGIN:VCALENDAR
VERSION:2.0
PRODID:-//Eventin//Event Calendar//EN
CALSCALE:GREGORIAN
METHOD:PUBLISH
BEGIN:VEVENT
UID:59ef921ed93c92649ff55c025f092d2d@exploreashlandohio.com
SUMMARY:Ashland Comedy Open Mic
DESCRIPTION:
LOCATION:Kash Co. PourHouse
DTSTAMP:20260424T173451Z
DTSTART:20260825T233000Z
DTEND:20260826T020000Z
END:VEVENT
END:VCALENDAR
