BEGIN:VCALENDAR
VERSION:2.0
PRODID:-//Eventin//Event Calendar//EN
CALSCALE:GREGORIAN
METHOD:PUBLISH
BEGIN:VEVENT
UID:e7315b68133a9d5331b2ecbf9db4ed93@exploreashlandohio.com
SUMMARY:Ashland Comedy Open Mic
DESCRIPTION:
LOCATION:Kash Co. PourHouse
DTSTAMP:20260424T173451Z
DTSTART:20260818T233000Z
DTEND:20260819T020000Z
END:VEVENT
END:VCALENDAR
