BEGIN:VCALENDAR
VERSION:2.0
PRODID:-//Eventin//Event Calendar//EN
CALSCALE:GREGORIAN
METHOD:PUBLISH
BEGIN:VEVENT
UID:bbe46a122800f8a3db80bf2a0b9e91bd@exploreashlandohio.com
SUMMARY:Ashland Comedy Open Mic
DESCRIPTION:
LOCATION:Kash Co. PourHouse
DTSTAMP:20260424T173354Z
DTSTART:20260811T233000Z
DTEND:20260812T020000Z
END:VEVENT
END:VCALENDAR
