BEGIN:VCALENDAR
VERSION:2.0
PRODID:-//Eventin//Event Calendar//EN
CALSCALE:GREGORIAN
METHOD:PUBLISH
BEGIN:VEVENT
UID:ffc0e74d144047f54c52d752d4f12345@exploreashlandohio.com
SUMMARY:Ashland Comedy Open Mic
DESCRIPTION:
LOCATION:Kash Co. PourHouse
DTSTAMP:20260424T174111Z
DTSTART:20260707T233000Z
DTEND:20260708T020000Z
END:VEVENT
END:VCALENDAR
