BEGIN:VCALENDAR
VERSION:2.0
PRODID:-//Eventin//Event Calendar//EN
CALSCALE:GREGORIAN
METHOD:PUBLISH
BEGIN:VEVENT
UID:52dbfde4cf9417879a038fa9b02d608d@exploreashlandohio.com
SUMMARY:Ashland Comedy Open Mic
DESCRIPTION:
LOCATION:Kash Co. PourHouse
DTSTAMP:20260424T173523Z
DTSTART:20260630T233000Z
DTEND:20260701T020000Z
END:VEVENT
END:VCALENDAR
