BEGIN:VCALENDAR
VERSION:2.0
PRODID:-//Eventin//Event Calendar//EN
CALSCALE:GREGORIAN
METHOD:PUBLISH
BEGIN:VEVENT
UID:f2184c1629e5eecb68c41bcf8b268dd7@exploreashlandohio.com
SUMMARY:Ashland Comedy Open Mic
DESCRIPTION:
LOCATION:Kash Co. PourHouse
DTSTAMP:20260424T173355Z
DTSTART:20260623T233000Z
DTEND:20260624T020000Z
END:VEVENT
END:VCALENDAR
