BEGIN:VCALENDAR
VERSION:2.0
PRODID:-//Eventin//Event Calendar//EN
CALSCALE:GREGORIAN
METHOD:PUBLISH
BEGIN:VEVENT
UID:8da00d85dc12505dfe55eaad2771d601@exploreashlandohio.com
SUMMARY:Ashland Comedy Open Mic
DESCRIPTION:
LOCATION:Kash Co. PourHouse
DTSTAMP:20260424T173503Z
DTSTART:20260616T233000Z
DTEND:20260617T020000Z
END:VEVENT
END:VCALENDAR
