BEGIN:VCALENDAR
VERSION:2.0
PRODID:-//Eventin//Event Calendar//EN
CALSCALE:GREGORIAN
METHOD:PUBLISH
BEGIN:VEVENT
UID:83076a78be9edb85c4b576f9cc355b4b@exploreashlandohio.com
SUMMARY:Ashland Comedy Open Mic
DESCRIPTION:
LOCATION:Kash Co. PourHouse
DTSTAMP:20260424T173522Z
DTSTART:20260526T233000Z
DTEND:20260527T020000Z
END:VEVENT
END:VCALENDAR
