BEGIN:VCALENDAR
VERSION:2.0
PRODID:-//Eventin//Event Calendar//EN
CALSCALE:GREGORIAN
METHOD:PUBLISH
BEGIN:VEVENT
UID:060cd7ef2f179f003b8e0a214aa30ed4@exploreashlandohio.com
SUMMARY:Ashland Comedy Open Mic
DESCRIPTION:
LOCATION:Kash Co. PourHouse
DTSTAMP:20260424T173355Z
DTSTART:20260505T233000Z
DTEND:20260506T020000Z
END:VEVENT
END:VCALENDAR
