BEGIN:VCALENDAR
VERSION:2.0
PRODID:-//Eventin//Event Calendar//EN
CALSCALE:GREGORIAN
METHOD:PUBLISH
BEGIN:VEVENT
UID:e7a9fee7dd4c90976fddf55fbb0bda1c@exploreashlandohio.com
SUMMARY:Ashland Comedy Open Mic
DESCRIPTION:
LOCATION:Kash Co. PourHouse
DTSTAMP:20260424T173522Z
DTSTART:20260428T233000Z
DTEND:20260429T020000Z
END:VEVENT
END:VCALENDAR
