BEGIN:VCALENDAR
VERSION:2.0
PRODID:-//Eventin//Event Calendar//EN
CALSCALE:GREGORIAN
METHOD:PUBLISH
BEGIN:VEVENT
UID:baf5814d0cad2ac46e93cdcb4a661144@exploreashlandohio.com
SUMMARY:The Link- Ashland Bowling Fundraiser 2026
DESCRIPTION:
LOCATION:Luray Lanes
DTSTAMP:20260424T173502Z
DTSTART:20260626T220000Z
DTEND:20260627T000000Z
END:VEVENT
END:VCALENDAR
