BEGIN:VCALENDAR
VERSION:2.0
PRODID:-//Eventin//Event Calendar//EN
CALSCALE:GREGORIAN
METHOD:PUBLISH
BEGIN:VEVENT
UID:d01d0686d001a2e4a6ed68759f96cc9d@exploreashlandohio.com
SUMMARY:Spring Nature Art Class
DESCRIPTION:Spring Nature Art Classes!Who: Youth in grades 4th-8thWhen: Apr
 il 14 & 28 and May 12 & 19\, 2026Where: Freer Community Room1301 Park Stree
 t\, Ashland\, OHRegistration required.https://www.ashlandcountyparks.com/..
 ./spring-2026.../
LOCATION:Freer Field Community Room
DTSTAMP:20260424T173620Z
DTSTART:20260512T194500Z
DTEND:20260512T210000Z
END:VEVENT
END:VCALENDAR
