BEGIN:VCALENDAR
VERSION:2.0
PRODID:-//Eventin//Event Calendar//EN
CALSCALE:GREGORIAN
METHOD:PUBLISH
BEGIN:VEVENT
UID:ea0902183ca64083b1abfea10ea31753@exploreashlandohio.com
SUMMARY:Aber's Towing 4th Annual Car Show & Touch a Truck
DESCRIPTION:
LOCATION:Abers Towing and Crane Service
DTSTAMP:20260424T174829Z
DTSTART:20260718T130000Z
DTEND:20260718T180000Z
END:VEVENT
END:VCALENDAR
