BEGIN:VCALENDAR
VERSION:2.0
PRODID:-//Eventin//Event Calendar//EN
CALSCALE:GREGORIAN
METHOD:PUBLISH
BEGIN:VEVENT
UID:7bd02e74c03691c1fadd6a5ae6325e7b@exploreashlandohio.com
SUMMARY:End of Summer Main Street Bash
DESCRIPTION:
LOCATION:Ashland Main Street
DTSTAMP:20260424T173637Z
DTSTART:20260912T160000Z
DTEND:20260912T220000Z
END:VEVENT
END:VCALENDAR
