BEGIN:VCALENDAR
VERSION:2.0
PRODID:-//Eventin//Event Calendar//EN
CALSCALE:GREGORIAN
METHOD:PUBLISH
BEGIN:VEVENT
UID:39de16321f4d424b1fd403ff00ad5a58@exploreashlandohio.com
SUMMARY:Fused Glass Class
DESCRIPTION:
LOCATION:The Ashland Kroc Center
DTSTAMP:20260424T173533Z
DTSTART:20260430T223000Z
DTEND:20260430T233000Z
END:VEVENT
END:VCALENDAR
