BEGIN:VCALENDAR
VERSION:2.0
PRODID:-//Eventin//Event Calendar//EN
CALSCALE:GREGORIAN
METHOD:PUBLISH
BEGIN:VEVENT
UID:c9ade1fd74309c37015102eab45e58e5@exploreashlandohio.com
SUMMARY:Broadway Junior Revue: Pure Imagination
DESCRIPTION:
LOCATION:The Ashland Theatre
DTSTAMP:20260421T122023Z
DTSTART:20260426T190000Z
DTEND:20260426T210000Z
END:VEVENT
END:VCALENDAR
