BEGIN:VCALENDAR
VERSION:2.0
PRODID:-//Eventin//Event Calendar//EN
CALSCALE:GREGORIAN
METHOD:PUBLISH
BEGIN:VEVENT
UID:b83e9677b4b01ad14162f9ef5dae9237@exploreashlandohio.com
SUMMARY:Broadway Junior Revue: Pure Imagination
DESCRIPTION:
LOCATION:The Ashland Theatre
DTSTAMP:20260420T025307Z
DTSTART:20260424T120000Z
DTEND:20260425T010000Z
END:VEVENT
END:VCALENDAR
