BEGIN:VCALENDAR
VERSION:2.0
PRODID:-//Eventin//Event Calendar//EN
CALSCALE:GREGORIAN
METHOD:PUBLISH
BEGIN:VEVENT
UID:0f9ab53bac71e4172babfa665b0deffb@exploreashlandohio.com
SUMMARY:In concert Journey Tribute
DESCRIPTION:
LOCATION:Ashland County Fairgrounds
DTSTAMP:20260424T174136Z
DTSTART:20260522T230000Z
DTEND:20260523T020000Z
END:VEVENT
END:VCALENDAR
