BEGIN:VCALENDAR
VERSION:2.0
PRODID:-//Eventin//Event Calendar//EN
CALSCALE:GREGORIAN
METHOD:PUBLISH
BEGIN:VEVENT
UID:ff20b517fd0eef3308db4cec98447953@exploreashlandohio.com
SUMMARY:ACTS 4 Love Sewing
DESCRIPTION:Acts 4 Love Sewing Event takes place the 4th Tuesday of every m
 onth from 11 am to 3:30pm at Ashland New Life Church (lower level). We sew 
 and create all kinds of comfort items for those in need for our local commu
 nities. We make cancer capes for children\, port pillows\, hanging bags\, q
 uilts\, and more!Lots of fun\, fellowship\, and good food! Lunch is provide
 d! Please come join us in giving back!
LOCATION:New Life Community Church (lower level)
DTSTAMP:20260424T173620Z
DTSTART:20260825T150000Z
DTEND:20260825T193000Z
END:VEVENT
END:VCALENDAR
