BEGIN:VCALENDAR
VERSION:2.0
PRODID:-//Eventin//Event Calendar//EN
CALSCALE:GREGORIAN
METHOD:PUBLISH
BEGIN:VEVENT
UID:67be18d920fc5a2f7c5de9ca8884cd08@exploreashlandohio.com
SUMMARY:Creative Cutters
DESCRIPTION:
LOCATION:New Life Community Church (lower level)
DTSTAMP:20260421T093615Z
DTSTART:20261006T213000Z
DTEND:20261007T000000Z
END:VEVENT
END:VCALENDAR
