BEGIN:VCALENDAR
VERSION:2.0
PRODID:-//Eventin//Event Calendar//EN
CALSCALE:GREGORIAN
METHOD:PUBLISH
BEGIN:VEVENT
UID:4b97d65af41c833d44e8f751fac72cfe@exploreashlandohio.com
SUMMARY:Creative Cutters
DESCRIPTION:
LOCATION:New Life Community Church (lower level)
DTSTAMP:20260421T092817Z
DTSTART:20260505T213000Z
DTEND:20260506T000000Z
END:VEVENT
END:VCALENDAR
