BEGIN:VCALENDAR
VERSION:2.0
PRODID:-//Eventin//Event Calendar//EN
CALSCALE:GREGORIAN
METHOD:PUBLISH
BEGIN:VEVENT
UID:ccd123e8aa79e50abd675e949c3f2b68@exploreashlandohio.com
SUMMARY:4th Annual Poker Run: Ride to Fight Suicide
DESCRIPTION:
LOCATION:Starting at O'bryans Pub
DTSTAMP:20260424T173452Z
DTSTART:20260620T170000Z
DTEND:20260620T200000Z
END:VEVENT
END:VCALENDAR
