BEGIN:VCALENDAR
VERSION:2.0
PRODID:-//Eventin//Event Calendar//EN
CALSCALE:GREGORIAN
METHOD:PUBLISH
BEGIN:VEVENT
UID:06781fc28845bd05fefa2055dfcd52b7@exploreashlandohio.com
SUMMARY:Fireworks
DESCRIPTION:
LOCATION:Charles Mill Lake
DTSTAMP:20260424T173328Z
DTSTART:20260802T010000Z
DTEND:20260802T020000Z
END:VEVENT
END:VCALENDAR
