BEGIN:VCALENDAR
VERSION:2.0
PRODID:-//Eventin//Event Calendar//EN
CALSCALE:GREGORIAN
METHOD:PUBLISH
BEGIN:VEVENT
UID:537d180d024541001157fffa8faba631@exploreashlandohio.com
SUMMARY:Trivia Night w/ ACHS &#038\; Ohio Fire
DESCRIPTION:
LOCATION:Ohio Fire
DTSTAMP:20260424T174158Z
DTSTART:20261103T230000Z
DTEND:20261104T010000Z
END:VEVENT
END:VCALENDAR
