BEGIN:VCALENDAR
VERSION:2.0
PRODID:-//Eventin//Event Calendar//EN
CALSCALE:GREGORIAN
METHOD:PUBLISH
BEGIN:VEVENT
UID:801f1d548bdabc15fcd7fc20bba6e6ae@exploreashlandohio.com
SUMMARY:Trivia Night w/ ACHS &#038\; Ohio Fire
DESCRIPTION:
LOCATION:Ohio Fire
DTSTAMP:20260424T174010Z
DTSTART:20261006T220000Z
DTEND:20261007T000000Z
END:VEVENT
END:VCALENDAR
