BEGIN:VCALENDAR
VERSION:2.0
PRODID:-//Eventin//Event Calendar//EN
CALSCALE:GREGORIAN
METHOD:PUBLISH
BEGIN:VEVENT
UID:1ddcdd168e1788a8a2c85ed35f23feea@exploreashlandohio.com
SUMMARY:Trivia Night w/ ACHS &#038\; Ohio Fire
DESCRIPTION:
LOCATION:Ohio Fire
DTSTAMP:20260424T174014Z
DTSTART:20260901T220000Z
DTEND:20260902T000000Z
END:VEVENT
END:VCALENDAR
