BEGIN:VCALENDAR
VERSION:2.0
PRODID:-//Eventin//Event Calendar//EN
CALSCALE:GREGORIAN
METHOD:PUBLISH
BEGIN:VEVENT
UID:259e0dd9d33f7b8d7a1b5bafe61048be@exploreashlandohio.com
SUMMARY:Trivia Night w/ ACHS &#038\; Ohio Fire
DESCRIPTION:
LOCATION:Ohio Fire
DTSTAMP:20260424T174045Z
DTSTART:20260804T220000Z
DTEND:20260805T000000Z
END:VEVENT
END:VCALENDAR
