BEGIN:VCALENDAR
VERSION:2.0
PRODID:-//Eventin//Event Calendar//EN
CALSCALE:GREGORIAN
METHOD:PUBLISH
BEGIN:VEVENT
UID:302a90883881dff861327968107f68a0@exploreashlandohio.com
SUMMARY:Trivia Night w/ ACHS &#038\; Ohio Fire
DESCRIPTION:
LOCATION:Ohio Fire
DTSTAMP:20260424T174045Z
DTSTART:20260707T220000Z
DTEND:20260708T000000Z
END:VEVENT
END:VCALENDAR
