BEGIN:VCALENDAR
VERSION:2.0
PRODID:-//Eventin//Event Calendar//EN
CALSCALE:GREGORIAN
METHOD:PUBLISH
BEGIN:VEVENT
UID:a1628ecd0958c08440a1c645c483e6d6@exploreashlandohio.com
SUMMARY:Live Music: Circle of Friends
DESCRIPTION:What began as an early morning restaurant music ministry 20 plu
 s years ago has come full circle as the circle of friends band.Come join us
  November 8th from 6-8 for an evening of worship through Music and fellowsh
 ip and great food.Circle of friends band members are as follows:Dale Powers
 -Lead vocal\,guitarMike Stevens-Lead vocal guitar mandolinTimmy T Taijanac-
 Lead vocal\,BassRandy Kilgore-Percussion\,harmonicaKeith Stamper-Lead vocal
 \,piano\,guitarMike White-Lead vocal\,guitar\nSinging all original music.
LOCATION:Olivesburg General Store 
DTSTAMP:20260423T133836Z
DTSTART:20260502T220000Z
DTEND:20260503T000000Z
END:VEVENT
END:VCALENDAR
