BEGIN:VCALENDAR
VERSION:2.0
PRODID:-//Eventin//Event Calendar//EN
CALSCALE:GREGORIAN
METHOD:PUBLISH
BEGIN:VEVENT
UID:7d25022a6bd61a50918a13d32947c88e@exploreashlandohio.com
SUMMARY:Pop in the Park-Ashland Symphony Orchestra
DESCRIPTION:
LOCATION:Guy C. Myers Memorial Band Shell
DTSTAMP:20260421T093002Z
DTSTART:20260628T120000Z
DTEND:20260628T140000Z
END:VEVENT
END:VCALENDAR
