BEGIN:VCALENDAR
VERSION:2.0
PRODID:-//Eventin//Event Calendar//EN
CALSCALE:GREGORIAN
METHOD:PUBLISH
BEGIN:VEVENT
UID:ced6b6b7232dbd1442e80c4d34554d13@exploreashlandohio.com
SUMMARY:Cookie Decorating Class
DESCRIPTION:
LOCATION:The Ashland Kroc Center
DTSTAMP:20260424T173502Z
DTSTART:20260424T210000Z
DTEND:20260424T220000Z
END:VEVENT
END:VCALENDAR
