BEGIN:VCALENDAR
VERSION:2.0
PRODID:-//Eventin//Event Calendar//EN
CALSCALE:GREGORIAN
METHOD:PUBLISH
BEGIN:VEVENT
UID:66d90c82ba4b979f9c567bdd78d12c0c@exploreashlandohio.com
SUMMARY:Annual Ohio Civil War / WWI&II Show
DESCRIPTION:
LOCATION:Richland County Fairgrounds
DTSTAMP:20260424T174749Z
DTSTART:20260502T120000Z
DTEND:20260503T210000Z
END:VEVENT
END:VCALENDAR
