BEGIN:VCALENDAR
VERSION:2.0
PRODID:-//Eventin//Event Calendar//EN
CALSCALE:GREGORIAN
METHOD:PUBLISH
BEGIN:VEVENT
UID:8205504f9d98b97876103a5342ba40e0@exploreashlandohio.com
SUMMARY:Friday Feelings
DESCRIPTION:*note Bounce-n-play runs Jan 9th-March 6th
LOCATION:The Ashland Kroc Center
DTSTAMP:20260424T111112Z
DTSTART:20260424T210000Z
DTEND:20260424T230000Z
END:VEVENT
END:VCALENDAR
