BEGIN:VCALENDAR
VERSION:2.0
PRODID:-//Eventin//Event Calendar//EN
CALSCALE:GREGORIAN
METHOD:PUBLISH
BEGIN:VEVENT
UID:8c321939bf1d52ac06110565b1a6caad@exploreashlandohio.com
SUMMARY:Ashland All Sports Booster Purse Bingo
DESCRIPTION:
LOCATION:Ashland County Fairgrounds
DTSTAMP:20260424T111052Z
DTSTART:20260502T230000Z
DTEND:20260503T020000Z
END:VEVENT
END:VCALENDAR
