BEGIN:VCALENDAR
VERSION:2.0
PRODID:-//Eventin//Event Calendar//EN
CALSCALE:GREGORIAN
METHOD:PUBLISH
BEGIN:VEVENT
UID:be865d43eacf6bce06b09ae4a19017ea@exploreashlandohio.com
SUMMARY:Final(ish) Friday- December "Final Friday before Christmas...Downto
 wn!"
DESCRIPTION:
LOCATION:Downtown Ashland
DTSTAMP:20260424T174611Z
DTSTART:20261218T220000Z
DTEND:20261219T000000Z
END:VEVENT
END:VCALENDAR
