BEGIN:VCALENDAR
VERSION:2.0
PRODID:-//Eventin//Event Calendar//EN
CALSCALE:GREGORIAN
METHOD:PUBLISH
BEGIN:VEVENT
UID:2093211121ba428b60f3b829523be5b5@exploreashlandohio.com
SUMMARY:Final Friday- November "Shop Small Downtown!"
DESCRIPTION:
LOCATION:Downtown Ashland
DTSTAMP:20260424T174044Z
DTSTART:20261127T220000Z
DTEND:20261128T000000Z
END:VEVENT
END:VCALENDAR
