BEGIN:VCALENDAR
VERSION:2.0
PRODID:-//Eventin//Event Calendar//EN
CALSCALE:GREGORIAN
METHOD:PUBLISH
BEGIN:VEVENT
UID:92221cf49702329d7b54149ac870c0e6@exploreashlandohio.com
SUMMARY:Pink Friday
DESCRIPTION:
LOCATION:Downtown Ashland
DTSTAMP:20260424T174010Z
DTSTART:20261120T190000Z
DTEND:20261121T030000Z
END:VEVENT
END:VCALENDAR
