BEGIN:VCALENDAR
VERSION:2.0
PRODID:-//Eventin//Event Calendar//EN
CALSCALE:GREGORIAN
METHOD:PUBLISH
BEGIN:VEVENT
UID:8c8997ed3ca59514f4985f40da164290@exploreashlandohio.com
SUMMARY:Flannel Fest
DESCRIPTION:
LOCATION:Downtown Ashland
DTSTAMP:20260424T174014Z
DTSTART:20260926T140000Z
DTEND:20260926T200000Z
END:VEVENT
END:VCALENDAR
