BEGIN:VCALENDAR
VERSION:2.0
PRODID:-//Eventin//Event Calendar//EN
CALSCALE:GREGORIAN
METHOD:PUBLISH
BEGIN:VEVENT
UID:609357185e2e93c65d0c23aff953af43@exploreashlandohio.com
SUMMARY:Final Friday- It's great to BEE Downtown!"
DESCRIPTION:
LOCATION:Downtown Ashland
DTSTAMP:20260424T174010Z
DTSTART:20260828T210000Z
DTEND:20260828T230000Z
END:VEVENT
END:VCALENDAR
