BEGIN:VCALENDAR
VERSION:2.0
PRODID:-//Eventin//Event Calendar//EN
CALSCALE:GREGORIAN
METHOD:PUBLISH
BEGIN:VEVENT
UID:ae4fc882f1057e0ad692b73032c991d7@exploreashlandohio.com
SUMMARY:Downtown Dream Cruise & Car Show
DESCRIPTION:
LOCATION:Downtown Ashland
DTSTAMP:20260424T174623Z
DTSTART:20260711T040000Z
DTEND:20260711T070000Z
END:VEVENT
END:VCALENDAR
