BEGIN:VCALENDAR
VERSION:2.0
PRODID:-//Eventin//Event Calendar//EN
CALSCALE:GREGORIAN
METHOD:PUBLISH
BEGIN:VEVENT
UID:e2768a848cef00e8b00ebf98eb8b2d80@exploreashlandohio.com
SUMMARY:Final Friday- June "Celebrate Downtown!"
DESCRIPTION:
LOCATION:Downtown Ashland
DTSTAMP:20260424T174152Z
DTSTART:20260626T090000Z
DTEND:20260626T110000Z
END:VEVENT
END:VCALENDAR
