BEGIN:VCALENDAR
VERSION:2.0
PRODID:-//Eventin//Event Calendar//EN
CALSCALE:GREGORIAN
METHOD:PUBLISH
BEGIN:VEVENT
UID:c60d4a703bbeb44fcb85c5ab4b9dba3a@exploreashlandohio.com
SUMMARY:Final Friday- May "Welcome Summer Downtown!"
DESCRIPTION:
LOCATION:Downtown Ashland
DTSTAMP:20260424T174622Z
DTSTART:20260529T210000Z
DTEND:20260529T230000Z
END:VEVENT
END:VCALENDAR
