BEGIN:VCALENDAR
VERSION:2.0
PRODID:-//Eventin//Event Calendar//EN
CALSCALE:GREGORIAN
METHOD:PUBLISH
BEGIN:VEVENT
UID:794cbaed175fabd76f3b4da5e11b61c3@exploreashlandohio.com
SUMMARY:Final Friday- April "Hats off to Downtown!"
DESCRIPTION:
LOCATION:Downtown Ashland
DTSTAMP:20260424T174621Z
DTSTART:20260424T210000Z
DTEND:20260424T230000Z
END:VEVENT
END:VCALENDAR
